BEGIN:VCALENDAR
VERSION:2.0
PRODID:-//Squarespace Inc/Squarespace 6//v6//EN
BEGIN:VEVENT
UID:5fccd28ef94b6402b218e1aa@squarespace.com
DTSTAMP:20201206T125114Z
DTSTART:20201212T010000Z
DTEND:20201212T023000Z
SUMMARY:U-M MT Ghostlight 2020
END:VEVENT
END:VCALENDAR
