BEGIN:VCALENDAR
VERSION:2.0
PRODID:-//Squarespace Inc/Squarespace 6//v6//EN
BEGIN:VEVENT
UID:5fad8dc916947a58feb2da54@squarespace.com
DTSTAMP:20201112T200426Z
DTSTART:20201125T180000Z
DTEND:20201125T191500Z
SUMMARY:Virtual Fosse Master Class with Dana Moore
END:VEVENT
END:VCALENDAR
