BEGIN:VCALENDAR
VERSION:2.0
PRODID:-//Squarespace Inc/Squarespace 6//v6//EN
BEGIN:VEVENT
UID:5fda67e975c0cb4a93f1d601@squarespace.com
DTSTAMP:20201216T200452Z
DTSTART:20210102T173000Z
DTEND:20210102T190000Z
SUMMARY:Virtual Fosse Master Class with Dana Moore
END:VEVENT
END:VCALENDAR
