BEGIN:VCALENDAR
VERSION:2.0
PRODID:-//Squarespace Inc/Squarespace 6//v6//EN
BEGIN:VEVENT
UID:5fc16d3dfa04221c71558c5f@squarespace.com
DTSTAMP:20201127T213140Z
DTSTART:20201226T173000Z
DTEND:20201226T190000Z
SUMMARY:Virtual Fosse Master Class with Jeff Shade
END:VEVENT
END:VCALENDAR
