BEGIN:VCALENDAR
VERSION:2.0
PRODID:-//Squarespace Inc/Squarespace 6//v6//EN
BEGIN:VEVENT
UID:5fda71018708523ef2c4cb9e@squarespace.com
DTSTAMP:20201216T204352Z
DTSTART:20210109T173000Z
DTEND:20210109T190000Z
SUMMARY:Virtual Fosse Master Class with Shannon Lewis
END:VEVENT
END:VCALENDAR
