BEGIN:VCALENDAR
VERSION:2.0
PRODID:-//Squarespace Inc/Squarespace 6//v6//EN
BEGIN:VEVENT
UID:5fda68694d9f6505ad1513db@squarespace.com
DTSTAMP:20210106T134852Z
DTSTART:20210113T180000Z
DTEND:20210113T190000Z
SUMMARY:Virtual Fosse Master Class with Spence Ford
END:VEVENT
END:VCALENDAR
