BEGIN:VCALENDAR
VERSION:2.0
PRODID:-//Squarespace Inc/Squarespace 6//v6//EN
BEGIN:VEVENT
UID:5fc16c48e18c5c478e317ec4@squarespace.com
DTSTAMP:20201216T211229Z
DTSTART:20201223T180000Z
DTEND:20201223T191500Z
SUMMARY:Virtual Fosse Master Class with Stephanie Pope
END:VEVENT
END:VCALENDAR
