BEGIN:VCALENDAR
VERSION:2.0
PRODID:-//Squarespace Inc/Squarespace 6//v6//EN
BEGIN:VEVENT
UID:5fc16b3dfa04221c71552f27@squarespace.com
DTSTAMP:20201216T211213Z
DTSTART:20201219T173000Z
DTEND:20201219T190000Z
SUMMARY:Virtual Fosse Master Class with Stephanie Pope
END:VEVENT
END:VCALENDAR
