BEGIN:VCALENDAR
VERSION:2.0
PRODID:-//Squarespace Inc/Squarespace 6//v6//EN
BEGIN:VEVENT
UID:5fda71a53bdf036ff1f08ad7@squarespace.com
DTSTAMP:20201216T204543Z
DTSTART:20210115T170000Z
DTEND:20210115T183000Z
SUMMARY:Virtual Intro Class with Christine Colby
END:VEVENT
END:VCALENDAR
