BEGIN:VCALENDAR
VERSION:2.0
PRODID:-//Squarespace Inc/Squarespace 6//v6//EN
BEGIN:VEVENT
UID:5fc16af23c02f22b9d428279@squarespace.com
DTSTAMP:20201127T212558Z
DTSTART:20201218T170000Z
DTEND:20201218T183000Z
SUMMARY:Virtual Intro Class with Jane Lanier
END:VEVENT
END:VCALENDAR
