BEGIN:VCALENDAR
VERSION:2.0
PRODID:-//Squarespace Inc/Squarespace 6//v6//EN
BEGIN:VEVENT
UID:5fda6fb6be72c61a35c6a653@squarespace.com
DTSTAMP:20201216T203943Z
DTSTART:20210108T170000Z
DTEND:20210108T183000Z
SUMMARY:Virtual Intro Class with Jane Lanier
END:VEVENT
END:VCALENDAR
